BEGIN:VCALENDAR
VERSION:2.0
PRODID:-//HPCwire Japan - ECPv4.9.6//NONSGML v1.0//EN
CALSCALE:GREGORIAN
METHOD:PUBLISH
X-WR-CALNAME:HPCwire Japan
X-ORIGINAL-URL:https://www.hpcwire.jp
X-WR-CALDESC:HPCwire Japan のイベント
BEGIN:VTIMEZONE
TZID:"Asia/Tokyo"
BEGIN:STANDARD
TZOFFSETFROM:+0900
TZOFFSETTO:+0900
TZNAME:JST
DTSTART:20230101T000000
END:STANDARD
END:VTIMEZONE
BEGIN:VEVENT
DTSTART;VALUE=DATE:20230209
DTEND;VALUE=DATE:20230211
DTSTAMP:20260420T162213
CREATED:20230125T064859Z
LAST-MODIFIED:20230125T064859Z
UID:71222-1675900800-1676073599@www.hpcwire.jp
SUMMARY:【産学連携フォーラム】 「第15回 自動車技術に関するCAEフォーラム 2023 オンライン」-CASE時代のクルマづくりを先導するデジタルエンジニアリング最前線-
DESCRIPTION:
URL:https://www.hpcwire.jp/event/%e3%80%90%e7%94%a3%e5%ad%a6%e9%80%a3%e6%90%ba%e3%83%95%e3%82%a9%e3%83%bc%e3%83%a9%e3%83%a0%e3%80%91-%e3%80%8c%e7%ac%ac15%e5%9b%9e-%e8%87%aa%e5%8b%95%e8%bb%8a%e6%8a%80%e8%a1%93%e3%81%ab%e9%96%a2
LOCATION:オンライン\, Japan
CATEGORIES:オンライン,国内会議
END:VEVENT
END:VCALENDAR