BEGIN:VCALENDAR
VERSION:2.0
PRODID:-//HPCwire Japan - ECPv4.9.6//NONSGML v1.0//EN
CALSCALE:GREGORIAN
METHOD:PUBLISH
X-WR-CALNAME:HPCwire Japan
X-ORIGINAL-URL:https://www.hpcwire.jp
X-WR-CALDESC:HPCwire Japan のイベント
BEGIN:VTIMEZONE
TZID:"Asia/Tokyo"
BEGIN:STANDARD
TZOFFSETFROM:+0900
TZOFFSETTO:+0900
TZNAME:JST
DTSTART:20140101T000000
END:STANDARD
END:VTIMEZONE
BEGIN:VEVENT
DTSTART;VALUE=DATE:20140123
DTEND;VALUE=DATE:20140125
DTSTAMP:20260419T170628
CREATED:20131022T033332Z
LAST-MODIFIED:20131022T033355Z
UID:687-1390435200-1390607999@www.hpcwire.jp
SUMMARY:第200回計算機アーキテクチャ研究会
DESCRIPTION:
URL:https://www.hpcwire.jp/event/%e7%ac%ac200%e5%9b%9e%e8%a8%88%e7%ae%97%e6%a9%9f%e3%82%a2%e3%83%bc%e3%82%ad%e3%83%86%e3%82%af%e3%83%81%e3%83%a3%e7%a0%94%e7%a9%b6%e4%bc%9a
LOCATION:東京工業大学\, 目黒区\, 東京都\, Japan
CATEGORIES:国内会議
END:VEVENT
END:VCALENDAR