BEGIN:VCALENDAR
VERSION:2.0
PRODID:-//HPCwire Japan - ECPv4.9.6//NONSGML v1.0//EN
CALSCALE:GREGORIAN
METHOD:PUBLISH
X-WR-CALNAME:HPCwire Japan
X-ORIGINAL-URL:https://www.hpcwire.jp
X-WR-CALDESC:HPCwire Japan のイベント
BEGIN:VTIMEZONE
TZID:"Asia/Tokyo"
BEGIN:STANDARD
TZOFFSETFROM:+0900
TZOFFSETTO:+0900
TZNAME:JST
DTSTART:20140101T000000
END:STANDARD
END:VTIMEZONE
BEGIN:VEVENT
DTSTART;VALUE=DATE:20140127
DTEND;VALUE=DATE:20140130
DTSTAMP:20260419T152254
CREATED:20131225T073521Z
LAST-MODIFIED:20131225T073521Z
UID:1662-1390780800-1391039999@www.hpcwire.jp
SUMMARY:5th International Conference on Intelligent Systems\, Modelling and Simulation　(ISMS2014)
DESCRIPTION:
URL:https://www.hpcwire.jp/event/5th-international-conference-on-intelligent-systems-modelling-and-simulation%e3%80%80isms2014
LOCATION:Sheraton Langkawi Beach Resort\, Langkawi\, Malaysia
CATEGORIES:国際会議
END:VEVENT
END:VCALENDAR