BEGIN:VCALENDAR
VERSION:2.0
PRODID:-//HPCwire Japan - ECPv4.9.6//NONSGML v1.0//EN
CALSCALE:GREGORIAN
METHOD:PUBLISH
X-WR-CALNAME:HPCwire Japan
X-ORIGINAL-URL:https://www.hpcwire.jp
X-WR-CALDESC:HPCwire Japan のイベント
BEGIN:VTIMEZONE
TZID:"Asia/Tokyo"
BEGIN:STANDARD
TZOFFSETFROM:+0900
TZOFFSETTO:+0900
TZNAME:JST
DTSTART:20140101T000000
END:STANDARD
END:VTIMEZONE
BEGIN:VEVENT
DTSTART;VALUE=DATE:20140923
DTEND;VALUE=DATE:20140926
DTSTAMP:20260419T150349
CREATED:20140717T052250Z
LAST-MODIFIED:20140717T052250Z
UID:4694-1411430400-1411689599@www.hpcwire.jp
SUMMARY:Asia Modelling Symposium 2014: International Conference on Mathematical/Analytical Modelling and Computer Simulation (AMS2014)
DESCRIPTION:
URL:https://www.hpcwire.jp/event/asia-modelling-symposium-2014-international-conference-on-mathematicalanalytical-modelling-and-computer-simulation-ams2014
LOCATION:Caesar Park Hotel\, Taipei\, Taiwan
CATEGORIES:国際会議
END:VEVENT
END:VCALENDAR