BEGIN:VCALENDAR
VERSION:2.0
PRODID:-//HPCwire Japan - ECPv4.9.6//NONSGML v1.0//EN
CALSCALE:GREGORIAN
METHOD:PUBLISH
X-WR-CALNAME:HPCwire Japan
X-ORIGINAL-URL:https://www.hpcwire.jp
X-WR-CALDESC:HPCwire Japan のイベント
BEGIN:VTIMEZONE
TZID:"Asia/Tokyo"
BEGIN:STANDARD
TZOFFSETFROM:+0900
TZOFFSETTO:+0900
TZNAME:JST
DTSTART:20160101T000000
END:STANDARD
END:VTIMEZONE
BEGIN:VEVENT
DTSTART;VALUE=DATE:20160905
DTEND;VALUE=DATE:20160910
DTSTAMP:20260421T080447
CREATED:20160801T224243Z
LAST-MODIFIED:20160801T224243Z
UID:11066-1473033600-1473465599@www.hpcwire.jp
SUMMARY:GaussianWS2016
DESCRIPTION:
URL:https://www.hpcwire.jp/event/gaussianws2016
LOCATION:東京工業大学\, 目黒区\, 東京都\, Japan
CATEGORIES:国内会議
END:VEVENT
END:VCALENDAR