BEGIN:VCALENDAR
VERSION:2.0
PRODID:-//HPCwire Japan - ECPv4.9.6//NONSGML v1.0//EN
CALSCALE:GREGORIAN
METHOD:PUBLISH
X-WR-CALNAME:HPCwire Japan
X-ORIGINAL-URL:https://www.hpcwire.jp
X-WR-CALDESC:HPCwire Japan のイベント
BEGIN:VTIMEZONE
TZID:"Asia/Tokyo"
BEGIN:STANDARD
TZOFFSETFROM:+0900
TZOFFSETTO:+0900
TZNAME:JST
DTSTART:20220101T000000
END:STANDARD
END:VTIMEZONE
BEGIN:VEVENT
DTSTART;VALUE=DATE:20221121
DTEND;VALUE=DATE:20221125
DTSTAMP:20260423T064554
CREATED:20220411T234932Z
LAST-MODIFIED:20220411T234932Z
UID:59121-1668988800-1669334399@www.hpcwire.jp
SUMMARY:International Symposium on Computing and Networking (CANDAR 2022)
DESCRIPTION:
URL:https://www.hpcwire.jp/event/international-symposium-on-computing-and-networking-candar-2022
LOCATION:アクリエひめじ\, 姫路市\, 兵庫県\, Japan
CATEGORIES:国内会議,国際会議
END:VEVENT
END:VCALENDAR