BEGIN:VCALENDAR
VERSION:2.0
PRODID:-//HPCwire Japan - ECPv4.9.6//NONSGML v1.0//EN
CALSCALE:GREGORIAN
METHOD:PUBLISH
X-WR-CALNAME:HPCwire Japan
X-ORIGINAL-URL:https://www.hpcwire.jp
X-WR-CALDESC:HPCwire Japan のイベント
BEGIN:VTIMEZONE
TZID:"Asia/Tokyo"
BEGIN:STANDARD
TZOFFSETFROM:+0900
TZOFFSETTO:+0900
TZNAME:JST
DTSTART:20140101T000000
END:STANDARD
END:VTIMEZONE
BEGIN:VEVENT
DTSTART;VALUE=DATE:20140322
DTEND;VALUE=DATE:20140329
DTSTAMP:20260419T163903
CREATED:20131114T030526Z
LAST-MODIFIED:20131114T030526Z
UID:1170-1395446400-1396051199@www.hpcwire.jp
SUMMARY:International Symposium on Grids and Clouds (ISGC) 
DESCRIPTION:
URL:https://www.hpcwire.jp/event/international-symposium-on-grids-and-clouds-isgc
LOCATION:Academia Sinica\, Taipei\, Taiwan
CATEGORIES:国際会議
END:VEVENT
END:VCALENDAR