BEGIN:VCALENDAR
VERSION:2.0
PRODID:-//HPCwire Japan - ECPv4.9.6//NONSGML v1.0//EN
CALSCALE:GREGORIAN
METHOD:PUBLISH
X-WR-CALNAME:HPCwire Japan
X-ORIGINAL-URL:https://www.hpcwire.jp
X-WR-CALDESC:HPCwire Japan のイベント
BEGIN:VTIMEZONE
TZID:"Asia/Tokyo"
BEGIN:STANDARD
TZOFFSETFROM:+0900
TZOFFSETTO:+0900
TZNAME:JST
DTSTART:20140101T000000
END:STANDARD
END:VTIMEZONE
BEGIN:VEVENT
DTSTART;VALUE=DATE:20140825
DTEND;VALUE=DATE:20140827
DTSTAMP:20260419T133125
CREATED:20140512T010155Z
LAST-MODIFIED:20140512T010155Z
UID:3970-1408924800-1409097599@www.hpcwire.jp
SUMMARY:International Workshop on Algorithms\, Models and Tools for Parallel Computing on Heterogeneous Platforms (HeteroPar'2014)
DESCRIPTION:
URL:https://www.hpcwire.jp/event/international-workshop-on-algorithms-models-and-tools-for-parallel-computing-on-heterogeneous-platforms-heteropar2014
LOCATION:University of Porto\, Porto\, Portugal
CATEGORIES:国際会議
END:VEVENT
END:VCALENDAR