BEGIN:VCALENDAR
VERSION:2.0
PRODID:-//HPCwire Japan - ECPv4.9.6//NONSGML v1.0//EN
CALSCALE:GREGORIAN
METHOD:PUBLISH
X-WR-CALNAME:HPCwire Japan
X-ORIGINAL-URL:https://www.hpcwire.jp
X-WR-CALDESC:HPCwire Japan のイベント
BEGIN:VTIMEZONE
TZID:"Asia/Tokyo"
BEGIN:STANDARD
TZOFFSETFROM:+0900
TZOFFSETTO:+0900
TZNAME:JST
DTSTART:20140101T000000
END:STANDARD
END:VTIMEZONE
BEGIN:VEVENT
DTSTART;VALUE=DATE:20140825
DTEND;VALUE=DATE:20140826
DTSTAMP:20260419T150301
CREATED:20140529T022917Z
LAST-MODIFIED:20140529T022917Z
UID:4133-1408924800-1409011199@www.hpcwire.jp
SUMMARY:International Workshop on Big Data Management in Clouds (BigDataCloud 2014)
DESCRIPTION:
URL:https://www.hpcwire.jp/event/international-workshop-on-big-data-management-in-clouds-bigdatacloud-2014
LOCATION:University of Porto\, Porto\, Portugal
CATEGORIES:国際会議
END:VEVENT
END:VCALENDAR