BEGIN:VCALENDAR
VERSION:2.0
PRODID:-//HPCwire Japan - ECPv4.9.6//NONSGML v1.0//EN
CALSCALE:GREGORIAN
METHOD:PUBLISH
X-WR-CALNAME:HPCwire Japan
X-ORIGINAL-URL:https://www.hpcwire.jp
X-WR-CALDESC:HPCwire Japan のイベント
BEGIN:VTIMEZONE
TZID:"Asia/Tokyo"
BEGIN:STANDARD
TZOFFSETFROM:+0900
TZOFFSETTO:+0900
TZNAME:JST
DTSTART:20220101T000000
END:STANDARD
END:VTIMEZONE
BEGIN:VEVENT
DTSTART;VALUE=DATE:20220823
DTEND;VALUE=DATE:20220826
DTSTAMP:20260425T204243
CREATED:20220811T235650Z
LAST-MODIFIED:20220812T070518Z
UID:64232-1661212800-1661471999@www.hpcwire.jp
SUMMARY:OpenACC and Hackathons Asia-Pacific Summit
DESCRIPTION:
URL:https://www.hpcwire.jp/event/openacc-and-hackathons-asia-pacific-summit
LOCATION:オンライン\, Japan
CATEGORIES:オンライン,国際会議,講習会
ATTACH;FMTTYPE=image/jpeg:https://www.hpcwire.jp/wp-content/uploads/2022/08/OpenACC_HACK-FB-INSTAGRAM_Organic_Ex_280w.jpg
END:VEVENT
END:VCALENDAR